BEGIN:VCALENDAR
VERSION:2.0
PRODID:-//FLVN - Finse Lappenhonden Vereniging Nederland - ECPv6.15.18//NONSGML v1.0//EN
CALSCALE:GREGORIAN
METHOD:PUBLISH
X-ORIGINAL-URL:https://finselappenhonden.nl
X-WR-CALDESC:Evenementen voor FLVN - Finse Lappenhonden Vereniging Nederland
REFRESH-INTERVAL;VALUE=DURATION:PT1H
X-Robots-Tag:noindex
X-PUBLISHED-TTL:PT1H
BEGIN:VTIMEZONE
TZID:Europe/Amsterdam
BEGIN:DAYLIGHT
TZOFFSETFROM:+0100
TZOFFSETTO:+0200
TZNAME:CEST
DTSTART:20240331T010000
END:DAYLIGHT
BEGIN:STANDARD
TZOFFSETFROM:+0200
TZOFFSETTO:+0100
TZNAME:CET
DTSTART:20241027T010000
END:STANDARD
BEGIN:DAYLIGHT
TZOFFSETFROM:+0100
TZOFFSETTO:+0200
TZNAME:CEST
DTSTART:20250330T010000
END:DAYLIGHT
BEGIN:STANDARD
TZOFFSETFROM:+0200
TZOFFSETTO:+0100
TZNAME:CET
DTSTART:20251026T010000
END:STANDARD
BEGIN:DAYLIGHT
TZOFFSETFROM:+0100
TZOFFSETTO:+0200
TZNAME:CEST
DTSTART:20260329T010000
END:DAYLIGHT
BEGIN:STANDARD
TZOFFSETFROM:+0200
TZOFFSETTO:+0100
TZNAME:CET
DTSTART:20261025T010000
END:STANDARD
END:VTIMEZONE
BEGIN:VEVENT
DTSTART;TZID=Europe/Amsterdam:20250423T080000
DTEND;TZID=Europe/Amsterdam:20250423T170000
DTSTAMP:20260421T204104
CREATED:20250423T143125Z
LAST-MODIFIED:20250707T135833Z
UID:1056-1745395200-1745427600@finselappenhonden.nl
SUMMARY:Internationale Dogshow K.C. Oss CAC-CACIB
DESCRIPTION:Internationale Dogshow K.C. Oss CAC-CACIB\n			\n			\n				\n				\n				\n				\n			\n				\n				\n			\n				\n				\n				\n				\n				\n				\n				\n				\n				\n				\n				\n				\n				\n				\n				\n				\n				\n				17 & 18 May 2025\n			\n				\n				\n				\n				\n				Indeling show \nZaterdag rasgroepen 1\, 4\, 6\, 7 en 8Zondag rasgroepen 2\, 3\, 5\, 9 en 10  \nClosing at max registration = 800 dogs by day \nInformation : \n\nParking to be paid at location\nMobilhomes – Campers are not allowed to spend the night on the car parking\n\n  \n \n \n			\n				Registreer hier
URL:https://finselappenhonden.nl/event/internationale-dogshow-k-c-oss-cac-cacib/
CATEGORIES:Hondenshows 2025
END:VEVENT
BEGIN:VEVENT
DTSTART;VALUE=DATE:20250419
DTEND;VALUE=DATE:20250420
DTSTAMP:20260421T204104
CREATED:20250311T184130Z
LAST-MODIFIED:20250707T135837Z
UID:533-1745020800-1745107199@finselappenhonden.nl
SUMMARY:Outdoor Zeeland dogshow
DESCRIPTION:OUTDOOR ZEELAND 2025 – CAC SHOW VOOR ALLE RASSEN\nZaterdag/Saturday groep: 1\, 3\, 5\nZondag/Sunday groep: 4\, 6\, 7\, 8\nMaandag/Monday groep: 2\, 9\, 10\n\nInschrijvingen sluiten zodra het maximum aantal honden per dag of per keurmeester is bereikt.\nRegistrations close once the maximum numbr of dogs per day or per judge has been reached.\n\nDit jaar organiseren we alweer de 5de editie van Outdoor Zeeland en dat vieren we op een manier die bij onze prachtige provincie past.\nWe hebben unieke Zeeuwse prijzen voor elke Best of Breed\, Best in Group en natuurlijk de Best in Show. Ook is er voor alle exposanten een Zeeuws aandenken.\nWe kijken ernaar uit om jullie te verwelkomen tijdens deze feestelijke jubileumeditie!
URL:https://finselappenhonden.nl/event/outdoor-zeeland-dogshow/
LOCATION:Dogshow zeeland\, Westhavendijk 4\, Wilhelminadorp\, Zeeland\, 4475 AC\, Netherlands
CATEGORIES:Hondenshows 2025
ATTACH;FMTTYPE=image/jpeg:https://finselappenhonden.nl/wp-content/uploads/2025/03/WhatsApp-Image-2021-06-26-at-14.39.40.jpeg
END:VEVENT
END:VCALENDAR