BEGIN:VCALENDAR
VERSION:2.0
PRODID:-//FLVN - Finse Lappenhonden Vereniging Nederland - ECPv6.15.18//NONSGML v1.0//EN
CALSCALE:GREGORIAN
METHOD:PUBLISH
X-WR-CALNAME:FLVN - Finse Lappenhonden Vereniging Nederland
X-ORIGINAL-URL:https://finselappenhonden.nl
X-WR-CALDESC:Evenementen voor FLVN - Finse Lappenhonden Vereniging Nederland
REFRESH-INTERVAL;VALUE=DURATION:PT1H
X-Robots-Tag:noindex
X-PUBLISHED-TTL:PT1H
BEGIN:VTIMEZONE
TZID:Europe/Amsterdam
BEGIN:DAYLIGHT
TZOFFSETFROM:+0100
TZOFFSETTO:+0200
TZNAME:CEST
DTSTART:20240331T010000
END:DAYLIGHT
BEGIN:STANDARD
TZOFFSETFROM:+0200
TZOFFSETTO:+0100
TZNAME:CET
DTSTART:20241027T010000
END:STANDARD
BEGIN:DAYLIGHT
TZOFFSETFROM:+0100
TZOFFSETTO:+0200
TZNAME:CEST
DTSTART:20250330T010000
END:DAYLIGHT
BEGIN:STANDARD
TZOFFSETFROM:+0200
TZOFFSETTO:+0100
TZNAME:CET
DTSTART:20251026T010000
END:STANDARD
BEGIN:DAYLIGHT
TZOFFSETFROM:+0100
TZOFFSETTO:+0200
TZNAME:CEST
DTSTART:20260329T010000
END:DAYLIGHT
BEGIN:STANDARD
TZOFFSETFROM:+0200
TZOFFSETTO:+0100
TZNAME:CET
DTSTART:20261025T010000
END:STANDARD
BEGIN:DAYLIGHT
TZOFFSETFROM:+0100
TZOFFSETTO:+0200
TZNAME:CEST
DTSTART:20270328T010000
END:DAYLIGHT
BEGIN:STANDARD
TZOFFSETFROM:+0200
TZOFFSETTO:+0100
TZNAME:CET
DTSTART:20271031T010000
END:STANDARD
END:VTIMEZONE
BEGIN:VEVENT
DTSTART;TZID=Europe/Amsterdam:20250531T130000
DTEND;TZID=Europe/Amsterdam:20250531T170000
DTSTAMP:20260423T003941
CREATED:20250520T192942Z
LAST-MODIFIED:20250707T135817Z
UID:1102-1748696400-1748710800@finselappenhonden.nl
SUMMARY:Schapenhoeden Zuid Weert (VOL)
DESCRIPTION:Workshop Schapenhoeden met je Finse Lappenhond \nAltijd al willen ontdekken hoe jouw Finse Lappenhond zijn natuurlijke herdersinstincten kan inzetten? Doe mee met onze workshop schapenhoeden en ervaar de bijzondere samenwerking tussen hond en handler! \nTijdens deze workshop leer je de basisprincipes van schapenhoeden onder begeleiding van een ervaren instructeur. Of je hond nu een beginner is of al enige ervaring heeft\, de workshop wordt afgestemd op het niveau van elke combinatie. Dit is een prachtige kans om je band met je hond te versterken en zijn natuurlijke talenten te ontdekken. \n📅 Datum: Zaterdagmiddag 31 mei en zondagmiddag 1 Juni📍 Locatie: omgeving van Weert ( Limburg) n.t.b💡 Voor wie: Leden van de Finse Lappenhonden Vereniging en hun honden \nWil je meedoen? Schrijf je snel in\, want de plaatsen zijn beperkt! 🚜🐑🐾De workshop bestaat uit 2 korte sessie van ongeveer 20 minuten\, inclusief uitleg.Opgeven kan via een mail naar: sabrina@finselappenhonden.nl \n \n \n 
URL:https://finselappenhonden.nl/event/schapenhoeden-zuid-weert-vol/
CATEGORIES:FLVN georganiseerde workshops
ATTACH;FMTTYPE=image/jpeg:https://finselappenhonden.nl/wp-content/uploads/2025/03/schapen.jpg
END:VEVENT
BEGIN:VEVENT
DTSTART;TZID=Europe/Amsterdam:20250611T193000
DTEND;TZID=Europe/Amsterdam:20250611T213000
DTSTAMP:20260423T003941
CREATED:20250529T192805Z
LAST-MODIFIED:20250707T135806Z
UID:1160-1749670200-1749677400@finselappenhonden.nl
SUMMARY:Roadshow foknormen
DESCRIPTION:Het fokken van een nestje stamboompups van A tot Z! \nWIl je meer weten over het fokken van een nestje stamboompups?Tijdens deze roadshow leer je onder andere het volgende : \n\nWat komt er allemaal bij fokken kijken\nWat moet je allemaal in huis halen\nWat is het effect van de foknormen op het fokken van een nest stamboompups\n\nHoe ga je hiermee om als fokker\n\n\n\n📅 Datum: Woensdag 11 Juni ( KV Nieuwegein) en Maandag 16 Juni ( KC Zwolle)📍 Locatie: Nieuwegein + Zwolle💡 Voor wie: aspirant fokkers van de Finse Lappenhonden Vereniging of potentiële fokkers die graag meer leren. \nInloop is voor beide dagen vanaf 19.30 en start om 20.00. Na de zomer zullen er nog twee andere regio’s aan de beurt komen. De roadshow voor de grotere en ook meer ervaren fokkers zal na de vakantie plaatsvinden. Binnenkort meer hierover.bovenstaande sessie’s zijn voornamelijk bedoeld voor beginnende fokkers of fokkers die al een tijdje geen nestje meer hebben gehad en graag een opfris cursus willen. Of zeker ook als je interesse hebt in het fokken van een nest stamboom pups. \nWil je meedoen? Opgeven kan via een inschijving op de website van houdenvanhonden. Hierin stellen ze ook een vraag over het aantal nesten per jaar\, als je niet fokt of geen nesten hebt gehad geef dit even aan bij het opmerking veld.
URL:https://finselappenhonden.nl/event/roadshow-foknormen/
CATEGORIES:Raad van Beheer events
ATTACH;FMTTYPE=image/webp:https://finselappenhonden.nl/wp-content/uploads/2025/05/raad-van-beheer-logo.webp
END:VEVENT
BEGIN:VEVENT
DTSTART;TZID=Europe/Amsterdam:20250621T000000
DTEND;TZID=Europe/Amsterdam:20250622T235959
DTSTAMP:20260423T003941
CREATED:20250529T193531Z
LAST-MODIFIED:20250707T135759Z
UID:1166-1750464000-1750636799@finselappenhonden.nl
SUMMARY:Dogshow Eindhoven CAC - OUTDOOR
DESCRIPTION:46e International Dogshow Eindhoven – CAC ShowOUTDOOR\n\n\n\nOp zaterdag 21 juni 2025 de rasgroepen: \n2 – Pinchers\, Schnauzers\, Molossers en Sennenhonden \n3 – Terriers \n5 – Spitsen en Oertypes \n9 – Gezelschapshonden \n10 – Windhonden \nOp zondag 22 juni 2025 de rasgroepen: \n1 – Herdershonden en Veedrijvers \n4 – Dashonden \n6 – Lopende honden en Zweethonden \n7 – Voorstaande honden \n8 – Retrievers\, Spaniels en Waterhonden \n\n\n\nEr is een catalogus te koop waar alle rassen in staan per dag in de diverse klassen en in welke ring ze gekeurd worden. \n \n \n\n\n\nSchrijf in via Dogshow
URL:https://finselappenhonden.nl/event/dogshow-eindhoven-cac-outdoor/
CATEGORIES:Hondenshows 2025
ATTACH;FMTTYPE=image/jpeg:https://finselappenhonden.nl/wp-content/uploads/2025/05/logo-kc-de-kempen.jpg
END:VEVENT
BEGIN:VEVENT
DTSTART;TZID=Europe/Amsterdam:20250719T191500
DTEND;TZID=Europe/Amsterdam:20250719T211500
DTSTAMP:20260423T003941
CREATED:20250619T173016Z
LAST-MODIFIED:20250707T135727Z
UID:1239-1752952500-1752959700@finselappenhonden.nl
SUMMARY:Avondwandeling Biesbosch
DESCRIPTION:19 Juli Aangelijnde avondwandeling in de Biesbosch \nZin in een gezellige aangelijnde zomeravondwandeling met je FinseLappenhond? Op zaterdagavond 19 juli trekken we er samen op uit voor een ontspannenavondwandeling in de prachtige Biesbosch.We proberen zo niet in de volle hitte tewandelen. \nNa afloop kunnen we (op eigen kosten) wat drinken bij Stay Okay Hostel Dordrecht Baanhoekweg 25\, 3313 LA Dordrecht. Het bezoekerscentrum en de Stay Okay liggen op 950 meter bij elkaar vandaan. Zowel bij het bezoekerscentrum als bij de stay okay is parkeergelegenheid.Laat je even weten of je erbij bent? . \n📅 Datum: 19 Juli🕒 Tijd : 19.15 uur verzamelen. Start wandeling 19.30 uu🗺️ Afstand : tussen 3 en 5 km📍 Locatie: Bezoekerscentrum Biesbosch Baanhoekweg 53 3313 LP Dordrecht💡 Voor wie: Leden van de Finse Lappenhonden Vereniging en hun honden \nWil je meedoen? Schrijf je snel in\, want de plaatsen zijn beperkt! 🚜🐑🐾Opgeven kan via een mail naar evenementen@finselappenhonden.nl
URL:https://finselappenhonden.nl/event/avondwandeling-biesbosch/
CATEGORIES:FLVN georganiseerde wandelingen
ATTACH;FMTTYPE=image/jpeg:https://finselappenhonden.nl/wp-content/uploads/2025/05/BIESBOSCH-WANDELING-KLEIN-59.jpg
END:VEVENT
BEGIN:VEVENT
DTSTART;TZID=Europe/Amsterdam:20250830T103000
DTEND;TZID=Europe/Amsterdam:20250830T123000
DTSTAMP:20260423T003941
CREATED:20250630T083040Z
LAST-MODIFIED:20250709T172335Z
UID:1242-1756549800-1756557000@finselappenhonden.nl
SUMMARY:Heidewandeling Epe
DESCRIPTION:Aangelijnde heidewandeling in Epe op 30 augustus \n\nOp zaterdag 30 augustus trekken we eropuit voor een aangelijnde wandeling in het mooie Epe\, waar de hei\, als de natuur meewerkt\, volop in bloei zal staan. \nDe wandeling is circa 7 km en onder begeleiding. Heb je een jonge of juist een oudere hond waarvoor 7 km te ver is\, dan kun je ook een van de vele gemarkeerde wandelingen lopen. Let op\, ook die zijn aangelijnd in verband met het wild in de bossen van Epe. \nWe beginnen de wandeling om 10.30 uur bij de grote parkeerplaats van restaurant De Ossenstal. Daar komen we ook weer terug. Na de wandeling is er gelegenheid om iets te drinken of te eten bij dit gezellige restaurant met groot buitenterras midden in het bos. Er zijn geen kosten verbonden aan de wandeling. De kosten voor een hapje en drankje zijn voor eigen rekening. \nTer voorbereiding adviseren wij wandelschoenen en water voor onderweg voor jezelf en de honden. Om incidenten te voorkomen vragen we je om je hond aan een gewone lijn te doen en niet aan een rollijn.  \nWil je erbij zijn? Geef je dan op via evenementen@finselappenhonden.nl. Tot dan! \n\n📅 Datum: 30 Augustus📍   Locatie: Ossenweg 10\, 8161 PZ Epe🕒 Tijd: 10.30 vertrek vanaf de parkeerplaats van restaurant De Ossenstal🗺️ Afstand: Circa 7 km💡  Voor wie: Leden van de Finse Lappenhonden Vereniging en hun honden
URL:https://finselappenhonden.nl/event/flvn-aangelijnde-heidewandeling-epe/
CATEGORIES:FLVN georganiseerde wandelingen
ATTACH;FMTTYPE=image/jpeg:https://finselappenhonden.nl/wp-content/uploads/2025/07/IMG_6021a.jpg
END:VEVENT
BEGIN:VEVENT
DTSTART;TZID=Europe/Amsterdam:20250913T100000
DTEND;TZID=Europe/Amsterdam:20250913T170000
DTSTAMP:20260423T003941
CREATED:20250707T211106Z
LAST-MODIFIED:20260416T223531Z
UID:1318-1757757600-1757782800@finselappenhonden.nl
SUMMARY:FLVN Clubmatch 2025
DESCRIPTION:Op zaterdag 13 september organiseert de FLVN weer een Kampioenschapsclubmatch (KCM). Dit jaar zijn we te gast op de KC Pampus in Almere. De honden worden gekeurd door Rita Liebrand. \nProgramma \n09.00 – Ontvangst van de honden10.00 – Start van de keuringen \nAdresWeteringweg 21358 AK Almere \n\n\n\nAanmelden
URL:https://finselappenhonden.nl/event/flvn-clubmatch-2025/
ATTACH;FMTTYPE=image/jpeg:https://finselappenhonden.nl/wp-content/uploads/2025/07/5930f535-1906-4a0d-b97f-9d694af267cc.jpg
END:VEVENT
BEGIN:VEVENT
DTSTART;TZID=Europe/Amsterdam:20251026T093000
DTEND;TZID=Europe/Amsterdam:20251026T170000
DTSTAMP:20260423T003941
CREATED:20250707T144211Z
LAST-MODIFIED:20250707T212038Z
UID:1292-1761471000-1761498000@finselappenhonden.nl
SUMMARY:Workshop schapenhoeden Dronten
DESCRIPTION:FLVN Workshopdag schapenhoeden in Dronten – Ontdek het instinct van jouw hond! 🐾 \n\n\n\n\n\n\n\nHeb jij een Finse Lappenhond en ben je benieuwd naar zijn of haar natuurlijke drijfinstinct?Kom dan naar onze gezellige én leerzame workshopdag schapenhoeden in Dronten! \n\n\n\nTijdens deze workshop krijg je: \n\n\n\n\nProfessionele begeleiding van 2 ervaren trainers\n\n\n\nJij beleeft zelf samen met je Finse Lappenhond een kennismaking met schapen\n\n\n\nInzicht in het instinct en gedrag van je hond\n\n\n\nEen unieke kans om samen iets nieuws te beleven\n\n\n\n\nVoor wie?Deze workshop is speciaal gericht op eigenaren van Finse Lappenhonden\, of je hond nu ervaring heeft of niet. \n\n\n\n📍 Locatie: Dronten📅 Datum: Zondag 26 oktober 2025⏰ Tijd: aanvang 09.30 uur💶 Kosten: € 82\,50 voor FLVN leden (de vereniging betaalt € 7\,50 per lid)\, niet leden betalen € 90\,- per combinatie. \n\n\n\nLet op: Er is beperkt plek\, dus meld je snel aan!Ook als je al eerder deel hebt genomen\, geef het even aan\, dan zet ik op je op de (reserve)lijst. We hebben dit jaar meer ruimte (10 – 12 honden). \n\n\n\nUiteraard mag je die dag ook gewoon komen kijken. \n\n\n\n📩 Aanmelden of vragen? Mail naar: claudia@finselappenhonden.nl \n\n\n\nLaat je Finse Lappenhond zijn instinct volgen en beleef samen een onvergetelijke dag!Wie weet tot bij de schaapjes!
URL:https://finselappenhonden.nl/event/schapenhoed-workshop-dronten-26-oktober/
CATEGORIES:FLVN georganiseerde workshops
ATTACH;FMTTYPE=image/jpeg:https://finselappenhonden.nl/wp-content/uploads/2025/07/schapen-dronten-scaled.jpg
END:VEVENT
BEGIN:VEVENT
DTSTART;TZID=Europe/Amsterdam:20260419T100000
DTEND;TZID=Europe/Amsterdam:20260419T140000
DTSTAMP:20260423T003941
CREATED:20260416T230754Z
LAST-MODIFIED:20260416T230934Z
UID:1709-1776592800-1776607200@finselappenhonden.nl
SUMMARY:Nestendag + aankeuring
DESCRIPTION:
URL:https://finselappenhonden.nl/event/nestendag-aankeuring/
ATTACH;FMTTYPE=image/jpeg:https://finselappenhonden.nl/wp-content/uploads/2025/02/cropped-images.jpg
END:VEVENT
BEGIN:VEVENT
DTSTART;TZID=Europe/Amsterdam:20260503T103000
DTEND;TZID=Europe/Amsterdam:20260503T120000
DTSTAMP:20260423T003941
CREATED:20260416T224825Z
LAST-MODIFIED:20260422T183852Z
UID:1707-1777804200-1777809600@finselappenhonden.nl
SUMMARY:Algemene Ledenvergadering
DESCRIPTION:Op zondag 3 mei a.s. houdt de FLVN weer de jaarlijkse algemene ledenvergadering\, waarbij de leden worden geïnformeerd en geraadpleegd over de activiteiten van de Finse Lappenhonden Vereniging Nederland \n\n\n\n\nWat: ALV van Finse Lappenhonden Vereniging Nederland (FLVN)\n\n\n\nWanneer: Zondag 3 mei\, aanvang 10:30 – 12:00 uur\n\n\n\nWaar: Bospaviljoen ‘t Leesten\, Hoenderloseweg 191\, 7339 Ugchelen; of Online via Teams
URL:https://finselappenhonden.nl/event/algemene-ledenvergadering/
ATTACH;FMTTYPE=image/jpeg:https://finselappenhonden.nl/wp-content/uploads/2025/02/cropped-images.jpg
END:VEVENT
BEGIN:VEVENT
DTSTART;TZID=Europe/Amsterdam:20260531T100000
DTEND;TZID=Europe/Amsterdam:20260531T160000
DTSTAMP:20260423T003941
CREATED:20260422T184324Z
LAST-MODIFIED:20260422T185656Z
UID:1719-1780221600-1780243200@finselappenhonden.nl
SUMMARY:Wandelen & suppen met je lappenhond
DESCRIPTION:Speciaal voor leden van de FLVN organiseren we op zondag 31 mei een actief engezellig uitje met onze Finse Lappenhonden: een combinatie van wandelen en suppenin de prachtige omgeving van Kasteel Heeswijk (Noord-Brabant).We verzamelen tussen 10.00 en 10.30 uur op de Natuurpoortparkeerplaats bij KasteelHeeswijk. Rond 10.30 uur starten we met een mooie aangelijnde wandeling vanongeveer 6 km naar het opstappunt.Daar nemen we rustig de tijd voor een pauze met een zelf meegebrachte lunch. Na eenkorte instructie stappen we vervolgens op de SUP-boards en peddelen we over de Aaterug naar het beginpunt. De totale activiteit duurt ongeveer 4\,5 tot 5 uur.Deze activiteit is ook bij uitstek geschikt voor mensen die nog nooit hebben gesupt methun hond. Je krijgt uitleg vooraf en we doen het rustig en in een kleine groep\, zodatiedereen op zijn eigen tempo kan wennen.Kosten: € 50\,- per persoonDit is inclusief: \n\n\n\n\n\n\n\nhuur van de SUP\n\n\n\nbegeleiding\n\n\n\nkoffie/thee met iets lekkers\n\n\n\nleuke foto’s van de tocht\n\n\n\n\n\n\n\n\n\nEr zijn waterdichte telefoonhoesjes entonnetjes beschikbaar. Spullen die je nietmeeneemt op de SUP (zoals rugzakkenof schoenen) kunnen bij het opstappuntin een auto worden gelegd die teruggaatnaar de parkeerplaats.Er is plek voor minimaal 6 en maximaal10 deelnemers\, dus meld je op tijdaan.  \n\n\n\nDe suptocht is weersafhankelijk(bijvoorbeeld bij harde wind\, extremewarmte of veel regen). Ongeveer eenweek van tevoren bekijken we deweersverwachting en nemen we eendefinitieve beslissing. \n\n\n\nAanmelden kan via:marianne@finselappenhonden.nlMeld je snel aan als je erbij wil zijn!
URL:https://finselappenhonden.nl/event/wandelen-suppen-met-je-lappenhond/
CATEGORIES:FLVN georganiseerde workshops
ATTACH;FMTTYPE=image/jpeg:https://finselappenhonden.nl/wp-content/uploads/2026/04/suppen.jpg
END:VEVENT
BEGIN:VEVENT
DTSTART;TZID=Europe/Amsterdam:20260606T000000
DTEND;TZID=Europe/Amsterdam:20260607T235959
DTSTAMP:20260423T003941
CREATED:20260422T185934Z
LAST-MODIFIED:20260422T191117Z
UID:1728-1780704000-1780876799@finselappenhonden.nl
SUMMARY:Workshop schapenhoeden (Zuid NL)
DESCRIPTION:Ook dit jaar hebben we weer een workshop schapenhoeden voor onze leden eventueel niet leden kunnen zich ook aanmelden. Wil je hieraan meedoen? Meld je dan aan via Sabrina@finselappenhonden.nl
URL:https://finselappenhonden.nl/event/workshop-schapenhoeden-zuid-nl/
ATTACH;FMTTYPE=image/jpeg:https://finselappenhonden.nl/wp-content/uploads/2026/04/Knipsel.jpg
END:VEVENT
BEGIN:VEVENT
DTSTART;TZID=Europe/Amsterdam:20260620T104500
DTEND;TZID=Europe/Amsterdam:20260620T130000
DTSTAMP:20260423T003941
CREATED:20260422T191402Z
LAST-MODIFIED:20260422T191534Z
UID:1743-1781952300-1781960400@finselappenhonden.nl
SUMMARY:FLVN wandeling Erp ( Brabant)
DESCRIPTION:GROEPSWANDELING AANGELIJND IN HET HURKSKE OP ZATERDAG 20 JUNIOp zaterdag 20 juni 2026 organiseren we weer een fijne aangelijnde wandeling vooronze Finse Lappenhonden en hun baasjes. We verzamelen om 10.45 uur bij horecagelegenheid De Boswachter (Gemertsedijk 10\, 5469NH Erp)\, waarna we om 11.00 uursamen vertrekken.We wandelen een prachtige route van ongeveer 4\,5 km door natuurgebied Het Hurkskebij Erp (Noord-Brabant). Het gebied biedt van alles: bos\, kleine open heideveldjesen vennen. De route volgt brede\, vlakke paden en is goed aangegeven met oranjebordjes. Voor wie dat fijner vindt\, is er ook een verkorte route mogelijk.Na afloop is er gelegenheid om gezellig samen een kopje koffie/thee te drinken bij DeBoswachter. Honden zijn daar van harte welkom\, consumpties zijn voor eigen rekening.Praktische tips: \n\n\n\n \n\n\n\n\nBij veel regen kan de route drassig zijn\, stevige schoenen of laarzen zijn dan handig.\n\n\n\nRijd op de parkeerplaats even door naar achteren\, daar is meer parkeerruimte.Vanaf de parkeerplaats loop je direct het bos in.We hopen veel Lappies en hun baasjes te zien voor een gezellige wandeling!Meer informatie over het gebied:www.bezoekmeierijstad.nl/locaties-overzicht/1982548693/natuurgebied-het-hurkskeWil je mee?Graag aanmelden door te mailen naar: marianne@finselappenhonden.nl
URL:https://finselappenhonden.nl/event/flvn-wandeling-erp-brabant/
CATEGORIES:FLVN georganiseerde wandelingen
ATTACH;FMTTYPE=image/jpeg:https://finselappenhonden.nl/wp-content/uploads/2026/04/Outlook-njuihbmf.jpg
END:VEVENT
BEGIN:VEVENT
DTSTART;TZID=Europe/Amsterdam:20260905T100000
DTEND;TZID=Europe/Amsterdam:20260905T140000
DTSTAMP:20260423T003941
CREATED:20260422T191704Z
LAST-MODIFIED:20260422T191754Z
UID:1750-1788602400-1788616800@finselappenhonden.nl
SUMMARY:FLVN wandeling Heide (Overijssel)
DESCRIPTION:Heb je zin in een gezellige wandeling met je Finse Lappenhond door de prachtigeheide? Noteer dan alvast zaterdag 5 september 2026!Bij slecht weer schuiven we door naar de reservedag: zaterdag 12 september 2026. Deexacte startlocatie en route maken we later bekend.Bij voldoende interesse organiseren we deze wandeling graag voor jullie.  \n\n\n\nLaat onsweten of je mee wilt via marianne@finselappenhonden.nl.Meld je snel aan en mis dit gezellige uitje niet!
URL:https://finselappenhonden.nl/event/flvn-wandeling-heide-overijssel/
ATTACH;FMTTYPE=image/jpeg:https://finselappenhonden.nl/wp-content/uploads/2026/04/cid1600_hei-paars.jpg
END:VEVENT
END:VCALENDAR